BEGIN:VCALENDAR
VERSION:2.0
PRODID:-//Palouse Community Center - ECPv6.15.17.1//NONSGML v1.0//EN
CALSCALE:GREGORIAN
METHOD:PUBLISH
X-ORIGINAL-URL:https://palousecommunitycenter.org
X-WR-CALDESC:Events for Palouse Community Center
REFRESH-INTERVAL;VALUE=DURATION:PT1H
X-Robots-Tag:noindex
X-PUBLISHED-TTL:PT1H
BEGIN:VTIMEZONE
TZID:UTC
BEGIN:STANDARD
TZOFFSETFROM:+0000
TZOFFSETTO:+0000
TZNAME:UTC
DTSTART:20250101T000000
END:STANDARD
END:VTIMEZONE
BEGIN:VEVENT
DTSTART;TZID=UTC:20260101T180000
DTEND;TZID=UTC:20260101T190000
DTSTAMP:20260424T060330
CREATED:20250822T154737Z
LAST-MODIFIED:20250822T154738Z
UID:10003167-1767290400-1767294000@palousecommunitycenter.org
SUMMARY:Yoga Class
DESCRIPTION:
URL:https://palousecommunitycenter.org/event/yoga-class-108-2/2026-01-01/
END:VEVENT
BEGIN:VEVENT
DTSTART;TZID=UTC:20260102T180000
DTEND;TZID=UTC:20260102T200000
DTSTAMP:20260424T060330
CREATED:20251201T183055Z
LAST-MODIFIED:20251201T183055Z
UID:10004004-1767376800-1767384000@palousecommunitycenter.org
SUMMARY:Kids Martial Arts Class
DESCRIPTION:
URL:https://palousecommunitycenter.org/event/kids-martial-arts-class-4-2-2/2026-01-02/
END:VEVENT
BEGIN:VEVENT
DTSTART;TZID=UTC:20260104T090000
DTEND;TZID=UTC:20260104T100000
DTSTAMP:20260424T060330
CREATED:20231020T034041Z
LAST-MODIFIED:20231020T034041Z
UID:10001384-1767517200-1767520800@palousecommunitycenter.org
SUMMARY:Yoga Class
DESCRIPTION:
URL:https://palousecommunitycenter.org/event/yoga-class-106/2026-01-04/
END:VEVENT
BEGIN:VEVENT
DTSTART;TZID=UTC:20260105T180000
DTEND;TZID=UTC:20260105T190000
DTSTAMP:20260424T060330
CREATED:20231020T034220Z
LAST-MODIFIED:20251011T214215Z
UID:10001645-1767636000-1767639600@palousecommunitycenter.org
SUMMARY:Yoga Class
DESCRIPTION:
URL:https://palousecommunitycenter.org/event/yoga-class-107/2026-01-05/
END:VEVENT
BEGIN:VEVENT
DTSTART;TZID=UTC:20260107T070000
DTEND;TZID=UTC:20260107T140000
DTSTAMP:20260424T060330
CREATED:20260106T054905Z
LAST-MODIFIED:20260106T054905Z
UID:10004099-1767769200-1767794400@palousecommunitycenter.org
SUMMARY:Senior Lunch
DESCRIPTION:
URL:https://palousecommunitycenter.org/event/senior-lunch-8/2026-01-07/
END:VEVENT
BEGIN:VEVENT
DTSTART;TZID=UTC:20260108T180000
DTEND;TZID=UTC:20260108T190000
DTSTAMP:20260424T060330
CREATED:20250822T154737Z
LAST-MODIFIED:20250822T154738Z
UID:10003168-1767895200-1767898800@palousecommunitycenter.org
SUMMARY:Yoga Class
DESCRIPTION:
URL:https://palousecommunitycenter.org/event/yoga-class-108-2/2026-01-08/
END:VEVENT
BEGIN:VEVENT
DTSTART;TZID=UTC:20260109T180000
DTEND;TZID=UTC:20260109T200000
DTSTAMP:20260424T060330
CREATED:20251201T183055Z
LAST-MODIFIED:20251201T183055Z
UID:10004005-1767981600-1767988800@palousecommunitycenter.org
SUMMARY:Kids Martial Arts Class
DESCRIPTION:
URL:https://palousecommunitycenter.org/event/kids-martial-arts-class-4-2-2/2026-01-09/
END:VEVENT
BEGIN:VEVENT
DTSTART;TZID=UTC:20260111T090000
DTEND;TZID=UTC:20260111T100000
DTSTAMP:20260424T060330
CREATED:20231020T034041Z
LAST-MODIFIED:20231020T034041Z
UID:10001385-1768122000-1768125600@palousecommunitycenter.org
SUMMARY:Yoga Class
DESCRIPTION:
URL:https://palousecommunitycenter.org/event/yoga-class-106/2026-01-11/
END:VEVENT
BEGIN:VEVENT
DTSTART;TZID=UTC:20260112T180000
DTEND;TZID=UTC:20260112T190000
DTSTAMP:20260424T060330
CREATED:20231020T034220Z
LAST-MODIFIED:20251011T214215Z
UID:10001646-1768240800-1768244400@palousecommunitycenter.org
SUMMARY:Yoga Class
DESCRIPTION:
URL:https://palousecommunitycenter.org/event/yoga-class-107/2026-01-12/
END:VEVENT
BEGIN:VEVENT
DTSTART;TZID=UTC:20260113T100000
DTEND;TZID=UTC:20260113T160000
DTSTAMP:20260424T060330
CREATED:20250725T235923Z
LAST-MODIFIED:20250805T003542Z
UID:10002910-1768298400-1768320000@palousecommunitycenter.org
SUMMARY:Beef & Co. Prep
DESCRIPTION:
URL:https://palousecommunitycenter.org/event/beef-co-prep-19/2026-01-13/
END:VEVENT
BEGIN:VEVENT
DTSTART;TZID=UTC:20260114T070000
DTEND;TZID=UTC:20260114T140000
DTSTAMP:20260424T060330
CREATED:20260106T054905Z
LAST-MODIFIED:20260106T054905Z
UID:10004100-1768374000-1768399200@palousecommunitycenter.org
SUMMARY:Senior Lunch
DESCRIPTION:
URL:https://palousecommunitycenter.org/event/senior-lunch-8/2026-01-14/
END:VEVENT
BEGIN:VEVENT
DTSTART;TZID=UTC:20260115T180000
DTEND;TZID=UTC:20260115T190000
DTSTAMP:20260424T060330
CREATED:20250822T154737Z
LAST-MODIFIED:20250822T154738Z
UID:10003169-1768500000-1768503600@palousecommunitycenter.org
SUMMARY:Yoga Class
DESCRIPTION:
URL:https://palousecommunitycenter.org/event/yoga-class-108-2/2026-01-15/
END:VEVENT
BEGIN:VEVENT
DTSTART;TZID=UTC:20260116T160000
DTEND;TZID=UTC:20260116T210000
DTSTAMP:20260424T060330
CREATED:20251114T002359Z
LAST-MODIFIED:20260115T012348Z
UID:10003820-1768579200-1768597200@palousecommunitycenter.org
SUMMARY:Palouse Lions Club
DESCRIPTION:
URL:https://palousecommunitycenter.org/event/palouse-lions-club/
END:VEVENT
BEGIN:VEVENT
DTSTART;TZID=UTC:20260117T163000
DTEND;TZID=UTC:20260117T183000
DTSTAMP:20260424T060330
CREATED:20260115T012303Z
LAST-MODIFIED:20260115T012303Z
UID:10004367-1768667400-1768674600@palousecommunitycenter.org
SUMMARY:Kid's Martial Arts Class
DESCRIPTION:
URL:https://palousecommunitycenter.org/event/kids-martial-arts-class-5/
END:VEVENT
BEGIN:VEVENT
DTSTART;TZID=UTC:20260118T090000
DTEND;TZID=UTC:20260118T100000
DTSTAMP:20260424T060330
CREATED:20231020T034041Z
LAST-MODIFIED:20231020T034041Z
UID:10001386-1768726800-1768730400@palousecommunitycenter.org
SUMMARY:Yoga Class
DESCRIPTION:
URL:https://palousecommunitycenter.org/event/yoga-class-106/2026-01-18/
END:VEVENT
BEGIN:VEVENT
DTSTART;TZID=UTC:20260119T180000
DTEND;TZID=UTC:20260119T190000
DTSTAMP:20260424T060330
CREATED:20231020T034220Z
LAST-MODIFIED:20251011T214215Z
UID:10001647-1768845600-1768849200@palousecommunitycenter.org
SUMMARY:Yoga Class
DESCRIPTION:
URL:https://palousecommunitycenter.org/event/yoga-class-107/2026-01-19/
END:VEVENT
BEGIN:VEVENT
DTSTART;TZID=UTC:20260120T183000
DTEND;TZID=UTC:20260120T203000
DTSTAMP:20260424T060330
CREATED:20251204T041617Z
LAST-MODIFIED:20251204T041617Z
UID:10004076-1768933800-1768941000@palousecommunitycenter.org
SUMMARY:HIIT the Hills
DESCRIPTION:
URL:https://palousecommunitycenter.org/event/hiit-the-hills-3/
END:VEVENT
BEGIN:VEVENT
DTSTART;TZID=UTC:20260121T070000
DTEND;TZID=UTC:20260121T140000
DTSTAMP:20260424T060330
CREATED:20260106T054905Z
LAST-MODIFIED:20260106T054905Z
UID:10004101-1768978800-1769004000@palousecommunitycenter.org
SUMMARY:Senior Lunch
DESCRIPTION:
URL:https://palousecommunitycenter.org/event/senior-lunch-8/2026-01-21/
END:VEVENT
BEGIN:VEVENT
DTSTART;TZID=UTC:20260121T193000
DTEND;TZID=UTC:20260121T203000
DTSTAMP:20260424T060330
CREATED:20260119T175635Z
LAST-MODIFIED:20260119T181936Z
UID:10004502-1769023800-1769027400@palousecommunitycenter.org
SUMMARY:Bible Study Class
DESCRIPTION:Setup 7pm.  Class 7:30pm to 8:30 pm.  Cleanup to 9pm
URL:https://palousecommunitycenter.org/event/bible-study-class/2026-01-21/
END:VEVENT
BEGIN:VEVENT
DTSTART;TZID=UTC:20260122T100000
DTEND;TZID=UTC:20260122T160000
DTSTAMP:20260424T060330
CREATED:20260120T165048Z
LAST-MODIFIED:20260120T165048Z
UID:10002911-1769076000-1769097600@palousecommunitycenter.org
SUMMARY:Beef & Co. Prep
DESCRIPTION:
URL:https://palousecommunitycenter.org/event/beef-co-prep-19-15/
END:VEVENT
BEGIN:VEVENT
DTSTART;TZID=UTC:20260122T180000
DTEND;TZID=UTC:20260122T190000
DTSTAMP:20260424T060330
CREATED:20250822T154737Z
LAST-MODIFIED:20250822T154738Z
UID:10003170-1769104800-1769108400@palousecommunitycenter.org
SUMMARY:Yoga Class
DESCRIPTION:
URL:https://palousecommunitycenter.org/event/yoga-class-108-2/2026-01-22/
END:VEVENT
BEGIN:VEVENT
DTSTART;TZID=UTC:20260123T180000
DTEND;TZID=UTC:20260123T200000
DTSTAMP:20260424T060330
CREATED:20251201T183055Z
LAST-MODIFIED:20251201T183055Z
UID:10004007-1769191200-1769198400@palousecommunitycenter.org
SUMMARY:Kids Martial Arts Class
DESCRIPTION:
URL:https://palousecommunitycenter.org/event/kids-martial-arts-class-4-2-2/2026-01-23/
END:VEVENT
BEGIN:VEVENT
DTSTART;TZID=UTC:20260125T090000
DTEND;TZID=UTC:20260125T100000
DTSTAMP:20260424T060330
CREATED:20231020T034041Z
LAST-MODIFIED:20231020T034041Z
UID:10001387-1769331600-1769335200@palousecommunitycenter.org
SUMMARY:Yoga Class
DESCRIPTION:
URL:https://palousecommunitycenter.org/event/yoga-class-106/2026-01-25/
END:VEVENT
BEGIN:VEVENT
DTSTART;TZID=UTC:20260125T140000
DTEND;TZID=UTC:20260125T160000
DTSTAMP:20260424T060330
CREATED:20250204T231145Z
LAST-MODIFIED:20250204T231145Z
UID:10002819-1769349600-1769356800@palousecommunitycenter.org
SUMMARY:2nd Annual Puzzle Palooza
DESCRIPTION:
URL:https://palousecommunitycenter.org/event/2nd-annual-puzzle-palooza/
END:VEVENT
BEGIN:VEVENT
DTSTART;TZID=UTC:20260126T180000
DTEND;TZID=UTC:20260126T190000
DTSTAMP:20260424T060330
CREATED:20231020T034220Z
LAST-MODIFIED:20251011T214215Z
UID:10001648-1769450400-1769454000@palousecommunitycenter.org
SUMMARY:Yoga Class
DESCRIPTION:
URL:https://palousecommunitycenter.org/event/yoga-class-107/2026-01-26/
END:VEVENT
BEGIN:VEVENT
DTSTART;TZID=UTC:20260126T193000
DTEND;TZID=UTC:20260126T210000
DTSTAMP:20260424T060330
CREATED:20240723T015639Z
LAST-MODIFIED:20240723T015639Z
UID:10002457-1769455800-1769461200@palousecommunitycenter.org
SUMMARY:PCC Board Meeting
DESCRIPTION:
URL:https://palousecommunitycenter.org/event/pcc-board-meeting-2/2026-01-26/
END:VEVENT
BEGIN:VEVENT
DTSTART;TZID=UTC:20260127T180000
DTEND;TZID=UTC:20260127T210000
DTSTAMP:20260424T060330
CREATED:20260127T210131Z
LAST-MODIFIED:20260127T210131Z
UID:10004576-1769536800-1769547600@palousecommunitycenter.org
SUMMARY:Beef & Co. Prep
DESCRIPTION:
URL:https://palousecommunitycenter.org/event/beef-co-prep-27/
END:VEVENT
BEGIN:VEVENT
DTSTART;TZID=UTC:20260128T070000
DTEND;TZID=UTC:20260128T140000
DTSTAMP:20260424T060330
CREATED:20260106T054905Z
LAST-MODIFIED:20260106T054905Z
UID:10004102-1769583600-1769608800@palousecommunitycenter.org
SUMMARY:Senior Lunch
DESCRIPTION:
URL:https://palousecommunitycenter.org/event/senior-lunch-8/2026-01-28/
END:VEVENT
BEGIN:VEVENT
DTSTART;TZID=UTC:20260128T193000
DTEND;TZID=UTC:20260128T203000
DTSTAMP:20260424T060330
CREATED:20260119T175635Z
LAST-MODIFIED:20260119T181936Z
UID:10004503-1769628600-1769632200@palousecommunitycenter.org
SUMMARY:Bible Study Class
DESCRIPTION:Setup 7pm.  Class 7:30pm to 8:30 pm.  Cleanup to 9pm
URL:https://palousecommunitycenter.org/event/bible-study-class/2026-01-28/
END:VEVENT
BEGIN:VEVENT
DTSTART;TZID=UTC:20260129T180000
DTEND;TZID=UTC:20260129T190000
DTSTAMP:20260424T060330
CREATED:20250822T154737Z
LAST-MODIFIED:20250822T154738Z
UID:10003171-1769709600-1769713200@palousecommunitycenter.org
SUMMARY:Yoga Class
DESCRIPTION:
URL:https://palousecommunitycenter.org/event/yoga-class-108-2/2026-01-29/
END:VEVENT
END:VCALENDAR